Workbook

Sheet Tabelle1
A1: Jahr | B1: Hersteller- schlüssel- nummer | C1: Herstellerklartext | D1: Typschlüssel- nummer | E1: Handelsname | F1: Anzahl
A2: 2019 | B2: 3003 | C2: PEUGEOT (F) | D2: 216 | E2: GT,GR,SX INJECTION | F2: 16
A3: 2019 | B3: 3003 | C3: PEUGEOT (F) | D3: 220 | E3: GR,SR,GT,AUTOMATIC | F3: 8
A4: 2019 | B4: 3003 | C4: PEUGEOT (F) | D4: 221 | E4: GLD,GRD,SRD,CRISTAL,G | F4: 14
A5: 2019 | B5: 3003 | C5: PEUGEOT (F) | D5: 234 | E5: XE,XL,XR,GREEN,LOOK | F5: 10
A6: 2019 | B6: 3003 | C6: PEUGEOT (F) | D6: 235 | E6: XL,XR,XT,XS | F6: 7
A7: 2019 | B7: 3003 | C7: PEUGEOT (F) | D7: 236 | E7: XT,XR,XS INJ.,GTI | F7: 9
A8: 2019 | B8: 3003 | C8: PEUGEOT (F) | D8: 238 | E8: XR,XT,XS,GTI,AUTOM. | F8: 1
A9: 2019 | B9: 3003 | C9: PEUGEOT (F) | D9: 239 | E9: XLD,XRD,CRISTAL,GRAFF | F9: 9
A10: 2019 | B10: 3003 | C10: PEUGEOT (F) | D10: 240 | E10: GTI | F10: 5
A11: 2019 | B11: 3003 | C11: PEUGEOT (F) | D11: 288 | E11: GR,SX | F11: 1
A12: 2019 | B12: 3003 | C12: PEUGEOT (F) | D12: 289 | E12: GTI | F12: 1
A13: 2019 | B13: 3003 | C13: PEUGEOT (F) | D13: 300 | E13: XS,XR,XT,XL | F13: 1
... A192: 2024 | B192: 3003 | C192: PEUGEOT (F) | D192: 673 | E192: XR,XL,GRAFFIC 1,1,BES | F192: 23

Sheet Statistik
A1: Typschlüsselnummer | B1: Handelsname | C1: 2019 | D1: 2020 | E1: 2021 | F1: 2022 | G1: 2023 | H1: 2024
A2: 216 | B2: GT,GR,SX INJECTION | C2: =SUMIFS(Tabelle1!F:F,Tabelle1!A:A,Statistik!$C$1,Tabelle1!D:D,Statistik!A2) -> 16 | D2: =SUMIFS(Tabelle1!F:F,Tabelle1!A:A,Statistik!$D$1,Tabelle1!D:D,Statistik!A2) -> 14 | E2: =SUMIFS(Tabelle1!F:F,Tabelle1!A:A,Statistik!$E$1,Tabelle1!D:D,Statistik!A2) -> 14 | F2: =SUMIFS(Tabelle1!F:F,Tabelle1!A:A,Statistik!$F$1,Tabelle1!D:D,Statistik!A2) -> 13 | G2: =SUMIFS(Tabelle1!F:F,Tabelle1!A:A,Statistik!$G$1,Tabelle1!D:D,Statistik!A2) -> 12 | H2: =SUMIFS(Tabelle1!F:F,Tabelle1!A:A,Statistik!$H$1,Tabelle1!D:D,Statistik!A2) -> 12
A3: 220 | B3: GR,SR,GT,AUTOMATIC | C3: =SUMIFS(Tabelle1!F:F,Tabelle1!A:A,Statistik!$C$1,Tabelle1!D:D,Statistik!A3) -> 8 | D3: =SUMIFS(Tabelle1!F:F,Tabelle1!A:A,Statistik!$D$1,Tabelle1!D:D,Statistik!A3) -> 7 | E3: =SUMIFS(Tabelle1!F:F,Tabelle1!A:A,Statistik!$E$1,Tabelle1!D:D,Statistik!A3) -> 7 | F3: =SUMIFS(Tabelle1!F:F,Tabelle1!A:A,Statistik!$F$1,Tabelle1!D:D,Statistik!A3) -> 6 | G3: =SUMIFS(Tabelle1!F:F,Tabelle1!A:A,Statistik!$G$1,Tabelle1!D:D,Statistik!A3) -> 7 | H3: =SUMIFS(Tabelle1!F:F,Tabelle1!A:A,Statistik!$H$1,Tabelle1!D:D,Statistik!A3) -> 7
A4: 221 | B4: GLD,GRD,SRD,CRISTAL,G | C4: =SUMIFS(Tabelle1!F:F,Tabelle1!A:A,Statistik!$C$1,Tabelle1!D:D,Statistik!A4) -> 14 | D4: =SUMIFS(Tabelle1!F:F,Tabelle1!A:A,Statistik!$D$1,Tabelle1!D:D,Statistik!A4) -> 12 | E4: =SUMIFS(Tabelle1!F:F,Tabelle1!A:A,Statistik!$E$1,Tabelle1!D:D,Statistik!A4) -> 12 | F4: =SUMIFS(Tabelle1!F:F,Tabelle1!A:A,Statistik!$F$1,Tabelle1!D:D,Statistik!A4) -> 13 | G4: =SUMIFS(Tabelle1!F:F,Tabelle1!A:A,Statistik!$G$1,Tabelle1!D:D,Statistik!A4) -> 13 | H4: =SUMIFS(Tabelle1!F:F,Tabelle1!A:A,Statistik!$H$1,Tabelle1!D:D,Statistik!A4) -> 12
A5: 234 | B5: XE,XL,XR,GREEN,LOOK | C5: =SUMIFS(Tabelle1!F:F,Tabelle1!A:A,Statistik!$C$1,Tabelle1!D:D,Statistik!A5) -> 10 | D5: =SUMIFS(Tabelle1!F:F,Tabelle1!A:A,Statistik!$D$1,Tabelle1!D:D,Statistik!A5) -> 9 | E5: =SUMIFS(Tabelle1!F:F,Tabelle1!A:A,Statistik!$E$1,Tabelle1!D:D,Statistik!A5) -> 9 | F5: =SUMIFS(Tabelle1!F:F,Tabelle1!A:A,Statistik!$F$1,Tabelle1!D:D,Statistik!A5) -> 9 | G5: =SUMIFS(Tabelle1!F:F,Tabelle1!A:A,Statistik!$G$1,Tabelle1!D:D,Statistik!A5) -> 9 | H5: =SUMIFS(Tabelle1!F:F,Tabelle1!A:A,Statistik!$H$1,Tabelle1!D:D,Statistik!A5) -> 9
A6: 235 | B6: XL,XR,XT,XS | C6: =SUMIFS(Tabelle1!F:F,Tabelle1!A:A,Statistik!$C$1,Tabelle1!D:D,Statistik!A6) -> 7 | D6: =SUMIFS(Tabelle1!F:F,Tabelle1!A:A,Statistik!$D$1,Tabelle1!D:D,Statistik!A6) -> 7 | E6: =SUMIFS(Tabelle1!F:F,Tabelle1!A:A,Statistik!$E$1,Tabelle1!D:D,Statistik!A6) -> 7 | F6: =SUMIFS(Tabelle1!F:F,Tabelle1!A:A,Statistik!$F$1,Tabelle1!D:D,Statistik!A6) -> 7 | G6: =SUMIFS(Tabelle1!F:F,Tabelle1!A:A,Statistik!$G$1,Tabelle1!D:D,Statistik!A6) -> 7 | H6: =SUMIFS(Tabelle1!F:F,Tabelle1!A:A,Statistik!$H$1,Tabelle1!D:D,Statistik!A6) -> 6
A7: 236 | B7: XT,XR,XS INJ.,GTI | C7: =SUMIFS(Tabelle1!F:F,Tabelle1!A:A,Statistik!$C$1,Tabelle1!D:D,Statistik!A7) -> 9 | D7: =SUMIFS(Tabelle1!F:F,Tabelle1!A:A,Statistik!$D$1,Tabelle1!D:D,Statistik!A7) -> 10 | E7: =SUMIFS(Tabelle1!F:F,Tabelle1!A:A,Statistik!$E$1,Tabelle1!D:D,Statistik!A7) -> 9 | F7: =SUMIFS(Tabelle1!F:F,Tabelle1!A:A,Statistik!$F$1,Tabelle1!D:D,Statistik!A7) -> 9 | G7: =SUMIFS(Tabelle1!F:F,Tabelle1!A:A,Statistik!$G$1,Tabelle1!D:D,Statistik!A7) -> 8 | H7: =SUMIFS(Tabelle1!F:F,Tabelle1!A:A,Statistik!$H$1,Tabelle1!D:D,Statistik!A7) -> 7
A8: 238 | B8: XR,XT,XS,GTI,AUTOM. | C8: =SUMIFS(Tabelle1!F:F,Tabelle1!A:A,Statistik!$C$1,Tabelle1!D:D,Statistik!A8) -> 1 | D8: =SUMIFS(Tabelle1!F:F,Tabelle1!A:A,Statistik!$D$1,Tabelle1!D:D,Statistik!A8) -> 0 | E8: =SUMIFS(Tabelle1!F:F,Tabelle1!A:A,Statistik!$E$1,Tabelle1!D:D,Statistik!A8) -> 0 | F8: =SUMIFS(Tabelle1!F:F,Tabelle1!A:A,Statistik!$F$1,Tabelle1!D:D,Statistik!A8) -> 0 | G8: =SUMIFS(Tabelle1!F:F,Tabelle1!A:A,Statistik!$G$1,Tabelle1!D:D,Statistik!A8) -> 0 | H8: =SUMIFS(Tabelle1!F:F,Tabelle1!A:A,Statistik!$H$1,Tabelle1!D:D,Statistik!A8) -> 0
A9: 239 | B9: XLD,XRD,CRISTAL,GRAFF | C9: =SUMIFS(Tabelle1!F:F,Tabelle1!A:A,Statistik!$C$1,Tabelle1!D:D,Statistik!A9) -> 9 | D9: =SUMIFS(Tabelle1!F:F,Tabelle1!A:A,Statistik!$D$1,Tabelle1!D:D,Statistik!A9) -> 9 | E9: =SUMIFS(Tabelle1!F:F,Tabelle1!A:A,Statistik!$E$1,Tabelle1!D:D,Statistik!A9) -> 8 | F9: =SUMIFS(Tabelle1!F:F,Tabelle1!A:A,Statistik!$F$1,Tabelle1!D:D,Statistik!A9) -> 9 | G9: =SUMIFS(Tabelle1!F:F,Tabelle1!A:A,Statistik!$G$1,Tabelle1!D:D,Statistik!A9) -> 10 | H9: =SUMIFS(Tabelle1!F:F,Tabelle1!A:A,Statistik!$H$1,Tabelle1!D:D,Statistik!A9) -> 10
A10: 240 | B10: GTI | C10: =SUMIFS(Tabelle1!F:F,Tabelle1!A:A,Statistik!$C$1,Tabelle1!D:D,Statistik!A10) -> 5 | D10: =SUMIFS(Tabelle1!F:F,Tabelle1!A:A,Statistik!$D$1,Tabelle1!D:D,Statistik!A10) -> 5 | E10: =SUMIFS(Tabelle1!F:F,Tabelle1!A:A,Statistik!$E$1,Tabelle1!D:D,Statistik!A10) -> 5 | F10: =SUMIFS(Tabelle1!F:F,Tabelle1!A:A,Statistik!$F$1,Tabelle1!D:D,Statistik!A10) -> 5 | G10: =SUMIFS(Tabelle1!F:F,Tabelle1!A:A,Statistik!$G$1,Tabelle1!D:D,Statistik!A10) -> 5 | H10: =SUMIFS(Tabelle1!F:F,Tabelle1!A:A,Statistik!$H$1,Tabelle1!D:D,Statistik!A10) -> 4
A11: 288 | B11: GR,SX | C11: =SUMIFS(Tabelle1!F:F,Tabelle1!A:A,Statistik!$C$1,Tabelle1!D:D,Statistik!A11) -> 1 | D11: =SUMIFS(Tabelle1!F:F,Tabelle1!A:A,Statistik!$D$1,Tabelle1!D:D,Statistik!A11) -> 1 | E11: =SUMIFS(Tabelle1!F:F,Tabelle1!A:A,Statistik!$E$1,Tabelle1!D:D,Statistik!A11) -> 2 | F11: =SUMIFS(Tabelle1!F:F,Tabelle1!A:A,Statistik!$F$1,Tabelle1!D:D,Statistik!A11) -> 2 | G11: =SUMIFS(Tabelle1!F:F,Tabelle1!A:A,Statistik!$G$1,Tabelle1!D:D,Statistik!A11) -> 1 | H11: =SUMIFS(Tabelle1!F:F,Tabelle1!A:A,Statistik!$H$1,Tabelle1!D:D,Statistik!A11) -> 1
A12: 289 | B12: GTI | C12: =SUMIFS(Tabelle1!F:F,Tabelle1!A:A,Statistik!$C$1,Tabelle1!D:D,Statistik!A12) -> 1 | D12: =SUMIFS(Tabelle1!F:F,Tabelle1!A:A,Statistik!$D$1,Tabelle1!D:D,Statistik!A12) -> 1 | E12: =SUMIFS(Tabelle1!F:F,Tabelle1!A:A,Statistik!$E$1,Tabelle1!D:D,Statistik!A12) -> 1 | F12: =SUMIFS(Tabelle1!F:F,Tabelle1!A:A,Statistik!$F$1,Tabelle1!D:D,Statistik!A12) -> 1 | G12: =SUMIFS(Tabelle1!F:F,Tabelle1!A:A,Statistik!$G$1,Tabelle1!D:D,Statistik!A12) -> 1 | H12: =SUMIFS(Tabelle1!F:F,Tabelle1!A:A,Statistik!$H$1,Tabelle1!D:D,Statistik!A12) -> 1
A13: 300 | B13: XS,XR,XT,XL | C13: =SUMIFS(Tabelle1!F:F,Tabelle1!A:A,Statistik!$C$1,Tabelle1!D:D,Statistik!A13) -> 1 | D13: =SUMIFS(Tabelle1!F:F,Tabelle1!A:A,Statistik!$D$1,Tabelle1!D:D,Statistik!A13) -> 1 | E13: =SUMIFS(Tabelle1!F:F,Tabelle1!A:A,Statistik!$E$1,Tabelle1!D:D,Statistik!A13) -> 1 | F13: =SUMIFS(Tabelle1!F:F,Tabelle1!A:A,Statistik!$F$1,Tabelle1!D:D,Statistik!A13) -> 0 | G13: =SUMIFS(Tabelle1!F:F,Tabelle1!A:A,Statistik!$G$1,Tabelle1!D:D,Statistik!A13) -> 0 | H13: =SUMIFS(Tabelle1!F:F,Tabelle1!A:A,Statistik!$H$1,Tabelle1!D:D,Statistik!A13) -> 1
... A34: 673 | B34: XR,XL,GRAFFIC 1,1,BES | C34: =SUMIFS(Tabelle1!F:F,Tabelle1!A:A,Statistik!$C$1,Tabelle1!D:D,Statistik!A34) -> 56 | D34: =SUMIFS(Tabelle1!F:F,Tabelle1!A:A,Statistik!$D$1,Tabelle1!D:D,Statistik!A34) -> 43 | E34: =SUMIFS(Tabelle1!F:F,Tabelle1!A:A,Statistik!$E$1,Tabelle1!D:D,Statistik!A34) -> 32 | F34: =SUMIFS(Tabelle1!F:F,Tabelle1!A:A,Statistik!$F$1,Tabelle1!D:D,Statistik!A34) -> 27 | G34: =SUMIFS(Tabelle1!F:F,Tabelle1!A:A,Statistik!$G$1,Tabelle1!D:D,Statistik!A34) -> 26 | H34: =SUMIFS(Tabelle1!F:F,Tabelle1!A:A,Statistik!$H$1,Tabelle1!D:D,Statistik!A34) -> 23
A35: Summe | C35: =SUM(C1:C34) -> 2925 | D35: =SUM(D1:D34) -> 2824 | E35: =SUM(E1:E34) -> 2729 | F35: =SUM(F1:F34) -> 2657 | G35: =SUM(G1:G34) -> 2616 | H35: =SUM(H1:H34) -> 2581
